BEGIN:VCALENDAR
VERSION:2.0
PRODID:-//The Malay College Old Boys Association - ECPv6.15.20//NONSGML v1.0//EN
CALSCALE:GREGORIAN
METHOD:PUBLISH
X-ORIGINAL-URL:https://mcoba.org
X-WR-CALDESC:Events for The Malay College Old Boys Association
REFRESH-INTERVAL;VALUE=DURATION:PT1H
X-Robots-Tag:noindex
X-PUBLISHED-TTL:PT1H
BEGIN:VTIMEZONE
TZID:Asia/Kuala_Lumpur
BEGIN:STANDARD
TZOFFSETFROM:+0800
TZOFFSETTO:+0800
TZNAME:+08
DTSTART:20200101T000000
END:STANDARD
END:VTIMEZONE
BEGIN:VEVENT
DTSTART;TZID=Asia/Kuala_Lumpur:20210114T130000
DTEND;TZID=Asia/Kuala_Lumpur:20210115T180000
DTSTAMP:20260421T031113
CREATED:20201228T093049Z
LAST-MODIFIED:20201228T093205Z
UID:46744-1610629200-1610733600@mcoba.org
SUMMARY:MCOBA Johor Friendly Golf Invitation 2021
DESCRIPTION:Please contact Hafiz @ Berg (C’95) @ +6019-6659195 to register.
URL:https://mcoba.org/event/mcoba-johor-friendly-golf-invitation-2021/
LOCATION:Forest City Golf Resort\, Jalan Persiaran Golf 5\, Gelang Patah\,\, Johor Bahru\, Johor\, 81550\, Malaysia
CATEGORIES:MCOBA Golf
ATTACH;FMTTYPE=image/png:https://mcoba.org/wp-content/uploads/2020/04/MCOBA-Featured-Image_01.png
END:VEVENT
END:VCALENDAR