BEGIN:VCALENDAR
VERSION:2.0
PRODID:-//The Malay College Old Boys Association - ECPv6.15.20//NONSGML v1.0//EN
CALSCALE:GREGORIAN
METHOD:PUBLISH
X-WR-CALNAME:The Malay College Old Boys Association
X-ORIGINAL-URL:https://mcoba.org
X-WR-CALDESC:Events for The Malay College Old Boys Association
REFRESH-INTERVAL;VALUE=DURATION:PT1H
X-Robots-Tag:noindex
X-PUBLISHED-TTL:PT1H
BEGIN:VTIMEZONE
TZID:Asia/Kuala_Lumpur
BEGIN:STANDARD
TZOFFSETFROM:+0800
TZOFFSETTO:+0800
TZNAME:+08
DTSTART:20170101T000000
END:STANDARD
END:VTIMEZONE
BEGIN:VEVENT
DTSTART;TZID=Asia/Kuala_Lumpur:20181006T080000
DTEND;TZID=Asia/Kuala_Lumpur:20181006T170000
DTSTAMP:20260420T045732
CREATED:20180820T175357Z
LAST-MODIFIED:20180820T175411Z
UID:38789-1538812800-1538845200@mcoba.org
SUMMARY:MCOBA Futsal 2018
DESCRIPTION:Fellow MCOBS! \nThis year\, we are proud to announce that MCOBA futsal will be making a return for another round. Event details as follows: \nEvent details\nEvent: MCOBA Futsal 2018 edition\nDate: 6th October 2018\nVenue: Sports Planet Ampang \n\nRegistration\nRegistration fee: RM300.00 per team (Every batch is allowed a maximum of 3 team)\nRegistration deadline: 13 September 2018 \nTo register\, click on the link below. (Note: to ensure complete registration of your team\, please attach the payment proof & complete the form.) \nhttps://goo.gl/forms/ChRExJhKeg4X3Vds2 \nPlease contact Jaei C’09 (0196698117) or Mumu C’09 (0129430904) for registration information & further details. So gather your batchmate and come sweat it out at the court!
URL:https://mcoba.org/event/mcoba-futsal-2018/
LOCATION:Sport Planet Ampang\, Sport Planet Ampang\, Pusat Sukan Sports Planet Ampang\, E12\, Ampang Jaya\, Selangor\, 68000\, Malaysia
CATEGORIES:Futsal
ATTACH;FMTTYPE=image/jpeg:https://mcoba.org/wp-content/uploads/2018/08/MCOBA-Futsal-2018.jpg
ORGANIZER;CN="The Malay College Old Boys Association (MCOBA)":MAILTO:contact@mcoba.org
END:VEVENT
END:VCALENDAR