BEGIN:VCALENDAR
VERSION:2.0
PRODID:-//The Malay College Old Boys Association - ECPv6.15.20//NONSGML v1.0//EN
CALSCALE:GREGORIAN
METHOD:PUBLISH
X-WR-CALNAME:The Malay College Old Boys Association
X-ORIGINAL-URL:https://mcoba.org
X-WR-CALDESC:Events for The Malay College Old Boys Association
REFRESH-INTERVAL;VALUE=DURATION:PT1H
X-Robots-Tag:noindex
X-PUBLISHED-TTL:PT1H
BEGIN:VTIMEZONE
TZID:Asia/Kuala_Lumpur
BEGIN:STANDARD
TZOFFSETFROM:+0800
TZOFFSETTO:+0800
TZNAME:+08
DTSTART:20170101T000000
END:STANDARD
END:VTIMEZONE
BEGIN:VEVENT
DTSTART;TZID=Asia/Kuala_Lumpur:20240928T160000
DTEND;TZID=Asia/Kuala_Lumpur:20240928T190000
DTSTAMP:20260421T161725
CREATED:20240915T050022Z
LAST-MODIFIED:20240915T050022Z
UID:58001-1727539200-1727550000@mcoba.org
SUMMARY:MC-VC Traditional Rugby Match 2024
DESCRIPTION:  \n  \nThe 60th edition of the traditional rugby match between the Malay College Kuala Kangsar and Vajiravudh College will be held in Kuala Kangsar. \nLet us all lend our voices in support of the MCKK All Blacks to win this match!
URL:https://mcoba.org/event/mc-vc-traditional-rugby-match-2024/
LOCATION:The Malay College Kuala Kangsar (MCKK)\, Jalan Tun Razak\,\, Kuala Kangsar\, Perak\, 33000\, Malaysia
CATEGORIES:Rugby Tournament
ORGANIZER;CN="The Malay College Kuala Kangsar (MCKK)":MAILTO:email@mckk.edu.my
END:VEVENT
BEGIN:VEVENT
DTSTART;TZID=Asia/Kuala_Lumpur:20230916T160000
DTEND;TZID=Asia/Kuala_Lumpur:20230916T190000
DTSTAMP:20260421T161725
CREATED:20230923T053442Z
LAST-MODIFIED:20230923T053442Z
UID:55961-1694880000-1694890800@mcoba.org
SUMMARY:MC-VC Traditional Rugby Match 2023
DESCRIPTION:  \n  \nThe 59th edition of the traditional rugby match between the Malay College Kuala Kangsar and Vajiravudh College will be held in Bangkok. \nLet us all lend our voices in support of the MCKK All Blacks to win this match!
URL:https://mcoba.org/event/mc-vc-traditional-rugby-match-2023/
LOCATION:Vajiravudh College\, 197 Ratchawithi Rd\, Bangkok\, Dusit District\, 10300\, Thailand
CATEGORIES:Rugby Tournament
ORGANIZER;CN="The Malay College Kuala Kangsar (MCKK)":MAILTO:email@mckk.edu.my
END:VEVENT
BEGIN:VEVENT
DTSTART;TZID=Asia/Kuala_Lumpur:20200228T150000
DTEND;TZID=Asia/Kuala_Lumpur:20200301T180000
DTSTAMP:20260421T161725
CREATED:20200130T074126Z
LAST-MODIFIED:20200130T074531Z
UID:44255-1582902000-1583085600@mcoba.org
SUMMARY:MCKK Premier 7s 2020 (10th Edition)
DESCRIPTION:The MCKK Premier 7s is an annual under 18 rugby seven tournament between the premier and international schools rugby sevens teams. The tournament was first held in 2011.The winners are awarded the NJ Ryan Cup\, named after the last foreigner headmaster that lift up the school rugby team in the past. \nThe tournament is administered by Malay College Kuala Kangsar and Malay College Old Boys Association with sub committee\, All-Blacks Revival (ABR). The tournament is also on the verge of being recognized by International Rugby Board with help by Malaysian Rugby Union. Since 2014\,the tagline for this tournament is “Premiering Talent and Sportsmanship”.
URL:https://mcoba.org/event/mckk-premier-7s-2020-10th-edition/
LOCATION:The Malay College Kuala Kangsar (MCKK)\, Jalan Tun Razak\,\, Kuala Kangsar\, Perak\, 33000\, Malaysia
CATEGORIES:Rugby Tournament
ATTACH;FMTTYPE=image/png:https://mcoba.org/wp-content/uploads/2020/01/FBPromo2020_504x504-01.png
ORGANIZER;CN="The Malay College Old Boys Association (MCOBA)":MAILTO:contact@mcoba.org
END:VEVENT
BEGIN:VEVENT
DTSTART;TZID=Asia/Kuala_Lumpur:20190301T150000
DTEND;TZID=Asia/Kuala_Lumpur:20190303T180000
DTSTAMP:20260421T161725
CREATED:20190102T120157Z
LAST-MODIFIED:20190102T120157Z
UID:39505-1551452400-1551636000@mcoba.org
SUMMARY:MCKK Premier 7s 2019
DESCRIPTION:The MCKK Premier 7s is an annual under 18 rugby seven tournament between the premier and international schools rugby sevens teams. The tournament was first held in 2011.The winners are awarded the NJ Ryan Cup\, named after the last foreigner headmaster that lift up the school rugby team in the past. \nThe tournament is administered by Malay College Kuala Kangsar and Malay College Old Boys Association with sub committee\, All-Blacks Revival (ABR). The tournament is also on the verge of being recognized by International Rugby Board with help by Malaysian Rugby Union. Since 2014\,the tagline for this tournament is “Premiering Talent and Sportsmanship”.
URL:https://mcoba.org/event/mckk-premier-7s-2019/
LOCATION:The Malay College Kuala Kangsar (MCKK)\, Jalan Tun Razak\,\, Kuala Kangsar\, Perak\, 33000\, Malaysia
CATEGORIES:Rugby Tournament
ATTACH;FMTTYPE=image/png:https://mcoba.org/wp-content/uploads/2018/01/Premier7s.png
ORGANIZER;CN="The Malay College Old Boys Association (MCOBA)":MAILTO:contact@mcoba.org
END:VEVENT
BEGIN:VEVENT
DTSTART;TZID=Asia/Kuala_Lumpur:20180223T150000
DTEND;TZID=Asia/Kuala_Lumpur:20180225T180000
DTSTAMP:20260421T161725
CREATED:20180105T033251Z
LAST-MODIFIED:20180118T071422Z
UID:37419-1519398000-1519581600@mcoba.org
SUMMARY:MCKK Premier 7s 2018
DESCRIPTION:The MCKK Premier 7s is an annual under 18 rugby seven tournament between the premier and international schools rugby sevens teams. The tournament was first held in 2011.The winners are awarded the NJ Ryan Cup\, named after the last foreigner headmaster that lift up the school rugby team in the past. \nThe tournament is administered by Malay College Kuala Kangsar and Malay College Old Boys Association with sub committee\, All-Blacks Revival (ABR). The tournament is also on the verge of being recognized by International Rugby Board with help by Malaysian Rugby Union. Since 2014\,the tagline for this tournament is “Premiering Talent and Sportsmanship”.
URL:https://mcoba.org/event/mckk-premier-7s-2018/
LOCATION:The Malay College Kuala Kangsar (MCKK)\, Jalan Tun Razak\,\, Kuala Kangsar\, Perak\, 33000\, Malaysia
CATEGORIES:Rugby Tournament
ATTACH;FMTTYPE=image/png:https://mcoba.org/wp-content/uploads/2018/01/Premier7s.png
ORGANIZER;CN="The Malay College Old Boys Association (MCOBA)":MAILTO:contact@mcoba.org
END:VEVENT
END:VCALENDAR