BEGIN:VCALENDAR
VERSION:2.0
PRODID:-//The Malay College Old Boys Association - ECPv6.15.20//NONSGML v1.0//EN
CALSCALE:GREGORIAN
METHOD:PUBLISH
X-WR-CALNAME:The Malay College Old Boys Association
X-ORIGINAL-URL:https://mcoba.org
X-WR-CALDESC:Events for The Malay College Old Boys Association
REFRESH-INTERVAL;VALUE=DURATION:PT1H
X-Robots-Tag:noindex
X-PUBLISHED-TTL:PT1H
BEGIN:VTIMEZONE
TZID:Asia/Kuala_Lumpur
BEGIN:STANDARD
TZOFFSETFROM:+0800
TZOFFSETTO:+0800
TZNAME:+08
DTSTART:20170101T000000
END:STANDARD
END:VTIMEZONE
BEGIN:VEVENT
DTSTART;TZID=Asia/Kuala_Lumpur:20190717T150000
DTEND;TZID=Asia/Kuala_Lumpur:20190717T170000
DTSTAMP:20260423T095910
CREATED:20190711T033021Z
LAST-MODIFIED:20190711T033519Z
UID:40687-1563375600-1563382800@mcoba.org
SUMMARY:Under The Big Tree - Vol. 2
DESCRIPTION:MALAYSIA’S TOP 5 STOCKS TO WATCH\nInvestment Opportunities and Market Outlook
URL:https://mcoba.org/event/under-the-big-tree-vol-2/
LOCATION:MCOBA Building\, MCOBA Building\, 42\, Jalan Syed Putra\, Taman Persiaran Desa\,\, Kuala Lumpur\, 50460\, Malaysia
CATEGORIES:MCOBA Talk
ORGANIZER;CN="The Malay College Old Boys Association (MCOBA)":MAILTO:contact@mcoba.org
END:VEVENT
BEGIN:VEVENT
DTSTART;TZID=Asia/Kuala_Lumpur:20190327T150000
DTEND;TZID=Asia/Kuala_Lumpur:20190327T170000
DTSTAMP:20260423T095910
CREATED:20190322T052523Z
LAST-MODIFIED:20190322T052632Z
UID:40024-1553698800-1553706000@mcoba.org
SUMMARY:Under The Big Tree - Vol. 1
DESCRIPTION:
URL:https://mcoba.org/event/under-the-big-tree-vol-1/
LOCATION:MCOBA Building\, MCOBA Building\, 42\, Jalan Syed Putra\, Taman Persiaran Desa\,\, Kuala Lumpur\, 50460\, Malaysia
CATEGORIES:MCOBA Talk
ORGANIZER;CN="The Malay College Old Boys Association (MCOBA)":MAILTO:contact@mcoba.org
END:VEVENT
BEGIN:VEVENT
DTSTART;TZID=Asia/Kuala_Lumpur:20180117T150000
DTEND;TZID=Asia/Kuala_Lumpur:20180117T170000
DTSTAMP:20260423T095910
CREATED:20180113T100221Z
LAST-MODIFIED:20180113T123446Z
UID:37458-1516201200-1516208400@mcoba.org
SUMMARY:MCOBA Tea-Time Talk with Tan Sri Sanusi Junid\, C'61
DESCRIPTION:Tan Sri Sanusi Junid\, C’61\, former Federal Minister & former Menteri Besar Kedah will be giving a talk as follows: \n  \n\n\n\nDate\n17th January 2018 (Wednesday)\n\n\nTime\n3.00pm\n\n\nVenue\nMCOBA Building\n\n\n\n  \nEveryone are welcome to this talk and listen to current issues\, anecdotes and past stories.
URL:https://mcoba.org/event/mcoba-tea-time-talk-with-tan-sri-sanusi-junid-c61/
LOCATION:MCOBA Building\, MCOBA Building\, 42\, Jalan Syed Putra\, Taman Persiaran Desa\,\, Kuala Lumpur\, 50460\, Malaysia
CATEGORIES:MCOBA Talk
ATTACH;FMTTYPE=image/jpeg:https://mcoba.org/wp-content/uploads/2018/01/Tan-Sri-Sanusi-Junid.jpg
ORGANIZER;CN="The Malay College Old Boys Association (MCOBA)":MAILTO:contact@mcoba.org
END:VEVENT
END:VCALENDAR