BEGIN:VCALENDAR
VERSION:2.0
PRODID:-//The Malay College Old Boys Association - ECPv6.15.20//NONSGML v1.0//EN
CALSCALE:GREGORIAN
METHOD:PUBLISH
X-ORIGINAL-URL:https://mcoba.org
X-WR-CALDESC:Events for The Malay College Old Boys Association
REFRESH-INTERVAL;VALUE=DURATION:PT1H
X-Robots-Tag:noindex
X-PUBLISHED-TTL:PT1H
BEGIN:VTIMEZONE
TZID:Asia/Kuala_Lumpur
BEGIN:STANDARD
TZOFFSETFROM:+0800
TZOFFSETTO:+0800
TZNAME:+08
DTSTART:20170101T000000
END:STANDARD
END:VTIMEZONE
BEGIN:VEVENT
DTSTART;TZID=Asia/Kuala_Lumpur:20180204T080000
DTEND;TZID=Asia/Kuala_Lumpur:20180204T170000
DTSTAMP:20260426T055137
CREATED:20180118T082647Z
LAST-MODIFIED:20180118T082647Z
UID:37484-1517731200-1517763600@mcoba.org
SUMMARY:MCOBA – OPA Golf Tournament 2018
DESCRIPTION:The MCOBA – OPA Golf Tournament 2018 will kick start the MCOBA Golf 2018 calendar. \nRead more at https://mcoba.org/2018/01/18/mcoba-opa-golf-tournament-2018/. \n 
URL:https://mcoba.org/event/mcoba-opa-golf-tournament-2018/
LOCATION:Kota Seriemas Golf & Country Club\, No.1\, Persiaran Seriemas Golf\, Kota Seriemas\,\, Nilai\, Negeri Sembilan\, 71800\, Malaysia
CATEGORIES:MCOBA Golf
ATTACH;FMTTYPE=image/png:https://mcoba.org/wp-content/uploads/2017/06/MCOBA-Golf_Featured_Image.png
ORGANIZER;CN="The Malay College Old Boys Association (MCOBA)":MAILTO:contact@mcoba.org
END:VEVENT
END:VCALENDAR