BEGIN:VCALENDAR
VERSION:2.0
PRODID:-//The Malay College Old Boys Association - ECPv6.15.20//NONSGML v1.0//EN
CALSCALE:GREGORIAN
METHOD:PUBLISH
X-WR-CALNAME:The Malay College Old Boys Association
X-ORIGINAL-URL:https://mcoba.org
X-WR-CALDESC:Events for The Malay College Old Boys Association
REFRESH-INTERVAL;VALUE=DURATION:PT1H
X-Robots-Tag:noindex
X-PUBLISHED-TTL:PT1H
BEGIN:VTIMEZONE
TZID:Asia/Kuala_Lumpur
BEGIN:STANDARD
TZOFFSETFROM:+0800
TZOFFSETTO:+0800
TZNAME:+08
DTSTART:20160101T000000
END:STANDARD
END:VTIMEZONE
BEGIN:VEVENT
DTSTART;TZID=Asia/Kuala_Lumpur:20171118T100000
DTEND;TZID=Asia/Kuala_Lumpur:20171118T170000
DTSTAMP:20260424T161241
CREATED:20171110T042456Z
LAST-MODIFIED:20171110T042456Z
UID:37321-1510999200-1511024400@mcoba.org
SUMMARY:MCOBA Go-Kart 2017
DESCRIPTION:Fellow MCOBs! \nEver wanted to channel your inner Lewis Hamilton on a race track? This year you can\, with the inaugural MCOBA Go-Kart championship! \nJoin 3 of your mates as you compete against fellow Old Boys on the Go-Kart track in Shah Alam in a team endurance race to earn a place on the podium. Bring home pride for your batch\, your house and your team as you race for glory! \nVenue : City Karting Shah Alam\nDate : Saturday\, 18th November 2017\nTime : 10 AM \nContact Person:\nVedder: +60169008485\nAmin: +60122129116 \nRegistration Link : https://goo.gl/forms/zNPCbF1UGXeaCUWl1 \nRules and regulation : https://goo.gl/t3qYTg \nThis event is brought to you by the Class of 2000.
URL:https://mcoba.org/event/mcoba-go-kart-2017/
LOCATION:City Karting Shah Alam\, City Karting Enterprise\, Level 1\, Quadrant C\, Shah Alam Stadium\, Section 13\, Shah Alam\,\, Selangor\, 40000\, Malaysia
CATEGORIES:Go-Kart
ATTACH;FMTTYPE=image/jpeg:https://mcoba.org/wp-content/uploads/2017/10/gokart-logo.jpg
ORGANIZER;CN="The Malay College Old Boys Association (MCOBA)":MAILTO:contact@mcoba.org
END:VEVENT
END:VCALENDAR