BEGIN:VCALENDAR
VERSION:2.0
PRODID:-//The Malay College Old Boys Association - ECPv6.15.20//NONSGML v1.0//EN
CALSCALE:GREGORIAN
METHOD:PUBLISH
X-ORIGINAL-URL:https://mcoba.org
X-WR-CALDESC:Events for The Malay College Old Boys Association
REFRESH-INTERVAL;VALUE=DURATION:PT1H
X-Robots-Tag:noindex
X-PUBLISHED-TTL:PT1H
BEGIN:VTIMEZONE
TZID:Asia/Kuala_Lumpur
BEGIN:STANDARD
TZOFFSETFROM:+0800
TZOFFSETTO:+0800
TZNAME:+08
DTSTART:20190101T000000
END:STANDARD
END:VTIMEZONE
BEGIN:VEVENT
DTSTART;TZID=Asia/Kuala_Lumpur:20200725T103000
DTEND;TZID=Asia/Kuala_Lumpur:20200725T163000
DTSTAMP:20260426T043140
CREATED:20200714T031639Z
LAST-MODIFIED:20200714T031832Z
UID:45567-1595673000-1595694600@mcoba.org
SUMMARY:MCOBA Annual General Meeting 2020
DESCRIPTION:
URL:https://mcoba.org/event/mcoba-annual-general-meeting-2020/
LOCATION:MCOBA Building\, MCOBA Building\, 42\, Jalan Syed Putra\, Taman Persiaran Desa\,\, Kuala Lumpur\, 50460\, Malaysia
CATEGORIES:MCOBA Events
ATTACH;FMTTYPE=image/png:https://mcoba.org/wp-content/uploads/2020/04/MCOBA-Featured-Image_01.png
ORGANIZER;CN="The Malay College Old Boys Association (MCOBA)":MAILTO:contact@mcoba.org
END:VEVENT
END:VCALENDAR