BEGIN:VCALENDAR
VERSION:2.0
PRODID:-//The Malay College Old Boys Association - ECPv6.15.20//NONSGML v1.0//EN
CALSCALE:GREGORIAN
METHOD:PUBLISH
X-WR-CALNAME:The Malay College Old Boys Association
X-ORIGINAL-URL:https://mcoba.org
X-WR-CALDESC:Events for The Malay College Old Boys Association
REFRESH-INTERVAL;VALUE=DURATION:PT1H
X-Robots-Tag:noindex
X-PUBLISHED-TTL:PT1H
BEGIN:VTIMEZONE
TZID:Asia/Kuala_Lumpur
BEGIN:STANDARD
TZOFFSETFROM:+0800
TZOFFSETTO:+0800
TZNAME:+08
DTSTART:20170101T000000
END:STANDARD
END:VTIMEZONE
BEGIN:VEVENT
DTSTART;TZID=Asia/Kuala_Lumpur:20181215T080000
DTEND;TZID=Asia/Kuala_Lumpur:20181215T120000
DTSTAMP:20260420T032051
CREATED:20180817T131102Z
LAST-MODIFIED:20181206T045428Z
UID:38782-1544860800-1544875200@mcoba.org
SUMMARY:MCOBA Go-Kart 2018
DESCRIPTION:It’s time to show off your racing skills on the track! MCOBA Gokart 2018 is back this year and we are expecting the competition to heat up! Do you think you have what it takes to beat last year’s hot lap of 1:14:696? Or do you think your team can do better than last year’s winning team average lap time of 1:20.5206? \nCome on down to Shah Alam’s City Karting on 27 October 2018 with two of your mates and see how your team fares against other old boys in this year’s endurance race. Be fast. Be furious. \nIs your team up to the challenge? Register your interest at: http://bit.ly/MGK_2018 \nMGK2018 Rules and Regulations: http://bit.ly/MGK2018_RnR \nFor more information\, contact Yam C’2000 (TG @life4hire). \nFor sponsorship opportunities\, contact Yunus C’2000 (TG: @yunuih).
URL:https://mcoba.org/event/mcoba-go-kart-2018/
LOCATION:City Karting Shah Alam\, City Karting Enterprise\, Level 1\, Quadrant C\, Shah Alam Stadium\, Section 13\, Shah Alam\,\, Selangor\, 40000\, Malaysia
CATEGORIES:Go-Kart
ATTACH;FMTTYPE=image/jpeg:https://mcoba.org/wp-content/uploads/2017/10/gokart-logo.jpg
ORGANIZER;CN="The Malay College Old Boys Association (MCOBA)":MAILTO:contact@mcoba.org
END:VEVENT
BEGIN:VEVENT
DTSTART;TZID=Asia/Kuala_Lumpur:20181215T080000
DTEND;TZID=Asia/Kuala_Lumpur:20181215T170000
DTSTAMP:20260420T032051
CREATED:20181206T051643Z
LAST-MODIFIED:20181206T053359Z
UID:39479-1544860800-1544893200@mcoba.org
SUMMARY:MCOBA Tortoise 10s
DESCRIPTION:MCOBA 10s is one of the\, if not the\, largest single alumni rugby tournament in Malaysia. From the inaugural edition in 2016\, the tournament has grown to close to 300 participants that learnt about rugby on the hallowed Bigfield.
URL:https://mcoba.org/event/mcoba-tortoise-10s/
LOCATION:SMK Kelana Jaya\, Jalan Bahagia\, SS 4\,\, Petaling Jaya\, Selangor\, 47301\, Malaysia
CATEGORIES:MCOBA Tortoise
ORGANIZER;CN="The Malay College Old Boys Association (MCOBA)":MAILTO:contact@mcoba.org
END:VEVENT
END:VCALENDAR